BEGIN:VCALENDAR
VERSION:2.0
CALSCALE:GREGORIAN
PRODID:-//Diputació de Barcelona//DibaCMS//EN
BEGIN:VEVENT
UID:14858
DTSTAMP:20260425T175822
DTSTART:20251219T000000
DTEND:20251219T000000
SUMMARY:Últim dia del Caminem!
LOCATION:
METHOD:PUBLISH
X-WR-CALNAME:ser@ser.cat
X-WR-TIMEZONE:Europe/Madrid
DESCRIPTION:
URI:https://www.ser.cat/actualitat/agenda/ultim-dia-del-caminem.html
CLASS:PUBLIC
END:VEVENT
END:VCALENDAR
