BEGIN:VCALENDAR
VERSION:2.0
CALSCALE:GREGORIAN
PRODID:-//Diputació de Barcelona//DibaCMS//EN
BEGIN:VEVENT
UID:21706
DTSTAMP:20260419T152556
DTSTART:20260308T000000
DTEND:20260308T000000
SUMMARY:Sortida de Santa Eulàlia Camina
LOCATION:
METHOD:PUBLISH
X-WR-CALNAME:ser@ser.cat
X-WR-TIMEZONE:Europe/Madrid
DESCRIPTION:
URI:https://www.ser.cat/actualitat/agenda/21706-sortida-de-santa-eulalia-camina.html
CLASS:PUBLIC
END:VEVENT
END:VCALENDAR
