BEGIN:VCALENDAR
VERSION:2.0
CALSCALE:GREGORIAN
PRODID:-//Diputació de Barcelona//DibaCMS//EN
BEGIN:VEVENT
UID:21823
DTSTAMP:20260425T222441
DTSTART:20260716T100000
DTEND:20260716T210000
SUMMARY:Campanya de donació de sang especial Festa Major
LOCATION:Camí del Gual, 40 08187 Santa Eulàlia de Ronçana
METHOD:PUBLISH
X-WR-CALNAME:ser@ser.cat
X-WR-TIMEZONE:Europe/Madrid
DESCRIPTION:
URI:https://www.ser.cat/actualitat/agenda/21823-campanya-de-donacio-de-sang-especial-festa-major.html
CLASS:PUBLIC
END:VEVENT
END:VCALENDAR
