BEGIN:VCALENDAR
VERSION:2.0
CALSCALE:GREGORIAN
PRODID:-//Diputació de Barcelona//DibaCMS//EN
BEGIN:VEVENT
UID:21827
DTSTAMP:20260425T223708
DTSTART:20260718T000000
DTEND:20260719T000000
SUMMARY:16a Fira del Tomàquet
LOCATION:Camí del Gual, 40 08187 Santa Eulàlia de Ronçana
METHOD:PUBLISH
X-WR-CALNAME:ser@ser.cat
X-WR-TIMEZONE:Europe/Madrid
DESCRIPTION:
URI:https://www.ser.cat/actualitat/agenda/16a-fira-del-tomaquet.html
CLASS:PUBLIC
END:VEVENT
END:VCALENDAR
