BEGIN:VCALENDAR
VERSION:2.0
CALSCALE:GREGORIAN
PRODID:-//Diputació de Barcelona//DibaCMS//EN
BEGIN:VEVENT
UID:21849
DTSTAMP:20260425T223326
DTSTART:20260919T000000
DTEND:20260920T000000
SUMMARY:Exhibició de maquetes de tren de jardí
LOCATION:Camí del Gual, 40 08187 Santa Eulàlia de Ronçana
METHOD:PUBLISH
X-WR-CALNAME:ser@ser.cat
X-WR-TIMEZONE:Europe/Madrid
DESCRIPTION:
URI:https://www.ser.cat/actualitat/agenda/21849-exhibicio-de-maquetes-de-tren-de-jardi.html
CLASS:PUBLIC
END:VEVENT
END:VCALENDAR
