BEGIN:VCALENDAR
VERSION:2.0
CALSCALE:GREGORIAN
PRODID:-//Diputació de Barcelona//DibaCMS//EN
BEGIN:VEVENT
UID:21867
DTSTAMP:20260425T222557
DTSTART:20261107T180000
DTEND:20261107T190000
SUMMARY:Espectacle familiar
LOCATION:Camí del Gual, 40 08187 Santa Eulàlia de Ronçana
METHOD:PUBLISH
X-WR-CALNAME:ser@ser.cat
X-WR-TIMEZONE:Europe/Madrid
DESCRIPTION:
URI:https://www.ser.cat/actualitat/agenda/21867-espectacle-familiar.html
CLASS:PUBLIC
END:VEVENT
END:VCALENDAR
