BEGIN:VCALENDAR
VERSION:2.0
CALSCALE:GREGORIAN
PRODID:-//Diputació de Barcelona//DibaCMS//EN
BEGIN:VEVENT
UID:22352
DTSTAMP:20260425T165510
DTSTART:20260425T170000
DTEND:20260425T190000
SUMMARY:Ballada de sardanes amb la Cobla Sant Jordi Ciutat de Barcelona
LOCATION:Plaça Onze de Setembre 
METHOD:PUBLISH
X-WR-CALNAME:ser@ser.cat
X-WR-TIMEZONE:Europe/Madrid
DESCRIPTION:
URI:https://www.ser.cat/actualitat/agenda/ballada-de-sardanes-amb-la-cobla-sant-jordi-ciutat-de-barcelona.html
CLASS:PUBLIC
END:VEVENT
END:VCALENDAR
