BEGIN:VCALENDAR
VERSION:2.0
CALSCALE:GREGORIAN
PRODID:-//Diputació de Barcelona//DibaCMS//EN
BEGIN:VEVENT
UID:22368
DTSTAMP:20260420T052038
DTSTART:20260421T183000
DTEND:20260421T193000
SUMMARY:Club de lectura de novel·la
LOCATION:Carrer Mestre Joan Batlle, 6 08187 Santa Eulàlia de Ronçana
METHOD:PUBLISH
X-WR-CALNAME:ser@ser.cat
X-WR-TIMEZONE:Europe/Madrid
DESCRIPTION:
URI:https://www.ser.cat/actualitat/agenda/22368-club-de-lectura-de-novella.html
CLASS:PUBLIC
END:VEVENT
END:VCALENDAR
