BEGIN:VCALENDAR
VERSION:2.0
CALSCALE:GREGORIAN
PRODID:-//Diputació de Barcelona//DibaCMS//EN
BEGIN:VEVENT
UID:22380
DTSTAMP:20260425T223151
DTSTART:20260530T180000
DTEND:20260530T200000
SUMMARY:Ballada de sardanes
LOCATION:Camí del Gual, 40 08187 Santa Eulàlia de Ronçana
METHOD:PUBLISH
X-WR-CALNAME:ser@ser.cat
X-WR-TIMEZONE:Europe/Madrid
DESCRIPTION:
URI:https://www.ser.cat/actualitat/agenda/22380-ballada-de-sardanes.html
CLASS:PUBLIC
END:VEVENT
END:VCALENDAR
