BEGIN:VCALENDAR
VERSION:2.0
CALSCALE:GREGORIAN
PRODID:-//Diputació de Barcelona//DibaCMS//EN
BEGIN:VEVENT
UID:22401
DTSTAMP:20260425T223807
DTSTART:20260509T090000
DTEND:20260509T150000
SUMMARY:Curs de Suport Vital Bàsic i ús del desfibril·lador (SVB + DEA)
LOCATION:Camí del Gual, 40 08187 Santa Eulàlia de Ronçana
METHOD:PUBLISH
X-WR-CALNAME:ser@ser.cat
X-WR-TIMEZONE:Europe/Madrid
DESCRIPTION:
URI:https://www.ser.cat/actualitat/agenda/22401-curs-de-suport-vital-basic-i-us-del-desfibrillador-svb--dea.html
CLASS:PUBLIC
END:VEVENT
END:VCALENDAR
