BEGIN:VCALENDAR
VERSION:2.0
CALSCALE:GREGORIAN
PRODID:-//Diputació de Barcelona//DibaCMS//EN
BEGIN:VEVENT
UID:22407
DTSTAMP:20260422T163110
DTSTART:20260424T103000
DTEND:20260424T123000
SUMMARY:Festa d'aniversari d'Eulàlia Duran
LOCATION:Llar d'avis 
METHOD:PUBLISH
X-WR-CALNAME:ser@ser.cat
X-WR-TIMEZONE:Europe/Madrid
DESCRIPTION:
URI:https://www.ser.cat/actualitat/agenda/festa-daniversari-deulalia-duran.html
CLASS:PUBLIC
END:VEVENT
END:VCALENDAR
