BEGIN:VCALENDAR
VERSION:2.0
CALSCALE:GREGORIAN
PRODID:-//Diputació de Barcelona//DibaCMS//EN
BEGIN:VEVENT
UID:22408
DTSTAMP:20260425T223915
DTSTART:20260513T100000
DTEND:20260513T120000
SUMMARY:4a Fira de mostres robòtica i STEAM
LOCATION:Camí del Gual, 40 08187 Santa Eulàlia de Ronçana
METHOD:PUBLISH
X-WR-CALNAME:ser@ser.cat
X-WR-TIMEZONE:Europe/Madrid
DESCRIPTION:
URI:https://www.ser.cat/actualitat/agenda/4a-fira-de-mostres-robotica-i-steam.html
CLASS:PUBLIC
END:VEVENT
END:VCALENDAR
