BEGIN:VCALENDAR
VERSION:2.0
CALSCALE:GREGORIAN
PRODID:-//Diputació de Barcelona//DibaCMS//EN
BEGIN:VEVENT
UID:9080
DTSTAMP:20260422T194929
DTSTART:20091019T000000
DTEND:20091019T000000
SUMMARY:CAMPANYA DE DONACIÓ DE SANG
LOCATION:
METHOD:PUBLISH
X-WR-CALNAME:ser@ser.cat
X-WR-TIMEZONE:Europe/Madrid
DESCRIPTION:
URI:https://www.ser.cat/actualitat/agenda/campanya-de-donacio-de-sang.html
CLASS:PUBLIC
END:VEVENT
END:VCALENDAR
